BEGIN:VCALENDAR
VERSION:2.0
PRODID:-//NADI Kg Sungai Mata - ECPv6.15.20//NONSGML v1.0//EN
CALSCALE:GREGORIAN
METHOD:PUBLISH
X-WR-CALNAME:NADI Kg Sungai Mata
X-ORIGINAL-URL:https://kgsgmata.nadi.my
X-WR-CALDESC:Events for NADI Kg Sungai Mata
REFRESH-INTERVAL;VALUE=DURATION:PT1H
X-Robots-Tag:noindex
X-PUBLISHED-TTL:PT1H
BEGIN:VTIMEZONE
TZID:Asia/Kuala_Lumpur
BEGIN:STANDARD
TZOFFSETFROM:+0800
TZOFFSETTO:+0800
TZNAME:+08
DTSTART:20240101T000000
END:STANDARD
END:VTIMEZONE
BEGIN:VEVENT
DTSTART;TZID=Asia/Kuala_Lumpur:20250801T080000
DTEND;TZID=Asia/Kuala_Lumpur:20250831T170000
DTSTAMP:20260419T215614
CREATED:20250804T022058Z
LAST-MODIFIED:20250804T022058Z
UID:3019-1754035200-1756659600@kgsgmata.nadi.my
SUMMARY:NADI WELLBEING
DESCRIPTION:NADI WELLBEING\n– Saringan Kesihatan \n-WEBINAR & PODCAST\n*Boleh diikuti melalui Google Meet dan saluran Youtube NADI MALAYSIA.
URL:https://kgsgmata.nadi.my/event/nadi-wellbeing-3/
LOCATION:NADI KAMPUNG SUNGAI MATA\, KOTA SAMARAHAN\, 94300\, Malaysia
END:VEVENT
BEGIN:VEVENT
DTSTART;TZID=Asia/Kuala_Lumpur:20250804T153000
DTEND;TZID=Asia/Kuala_Lumpur:20250804T163000
DTSTAMP:20260419T215614
CREATED:20250804T022009Z
LAST-MODIFIED:20250804T022009Z
UID:3017-1754321400-1754325000@kgsgmata.nadi.my
SUMMARY:NADI DILEA
DESCRIPTION:PROGRAM NADI DiLea\n– OPEN LIVE CLASS\nTerbuka kepada pelajar tingkatan 4&5 \n-LIVE CLASS
URL:https://kgsgmata.nadi.my/event/nadi-dilea-5/
LOCATION:NADI KAMPUNG SUNGAI MATA\, KOTA SAMARAHAN\, 94300\, Malaysia
END:VEVENT
BEGIN:VEVENT
DTSTART;VALUE=DATE:20250816
DTEND;VALUE=DATE:20250817
DTSTAMP:20260419T215614
CREATED:20250804T021856Z
LAST-MODIFIED:20250804T021856Z
UID:3015-1755302400-1755388799@kgsgmata.nadi.my
SUMMARY:NADI eSPORT
DESCRIPTION:NADI eSPORT\n– Saringan peringkat NADI\n– Kelas Pensijilan eSport \n 
URL:https://kgsgmata.nadi.my/event/nadi-esport/
LOCATION:NADI KAMPUNG SUNGAI MATA\, KOTA SAMARAHAN\, 94300\, Malaysia
END:VEVENT
END:VCALENDAR