BEGIN:VCALENDAR
VERSION:2.0
PRODID:-//NADI Kg Sungai Mata - ECPv6.15.20//NONSGML v1.0//EN
CALSCALE:GREGORIAN
METHOD:PUBLISH
X-WR-CALNAME:NADI Kg Sungai Mata
X-ORIGINAL-URL:https://kgsgmata.nadi.my
X-WR-CALDESC:Events for NADI Kg Sungai Mata
REFRESH-INTERVAL;VALUE=DURATION:PT1H
X-Robots-Tag:noindex
X-PUBLISHED-TTL:PT1H
BEGIN:VTIMEZONE
TZID:Asia/Kuala_Lumpur
BEGIN:STANDARD
TZOFFSETFROM:+0800
TZOFFSETTO:+0800
TZNAME:+08
DTSTART:20240101T000000
END:STANDARD
END:VTIMEZONE
BEGIN:VEVENT
DTSTART;VALUE=DATE:20250701
DTEND;VALUE=DATE:20250801
DTSTAMP:20260422T131923
CREATED:20250701T012900Z
LAST-MODIFIED:20250701T012900Z
UID:2907-1751328000-1754006399@kgsgmata.nadi.my
SUMMARY:NADI x WELLBEING
DESCRIPTION:SARINGAN KESIHATAN
URL:https://kgsgmata.nadi.my/event/nadi-x-wellbeing/
LOCATION:NADI KAMPUNG SUNGAI MATA\, KOTA SAMARAHAN\, 94300\, Malaysia
END:VEVENT
BEGIN:VEVENT
DTSTART;TZID=Asia/Kuala_Lumpur:20250701T100000
DTEND;TZID=Asia/Kuala_Lumpur:20250701T110000
DTSTAMP:20260422T131923
CREATED:20250701T013036Z
LAST-MODIFIED:20250701T013036Z
UID:2909-1751364000-1751367600@kgsgmata.nadi.my
SUMMARY:NADI x WELLBEING
DESCRIPTION:WEBINAR & PODCAST\n*Boleh diikuti melalui Google Meet dan saluran Youtube NADI MALAYSIA.
URL:https://kgsgmata.nadi.my/event/nadi-x-wellbeing-2/
LOCATION:NADI KAMPUNG SUNGAI MATA\, KOTA SAMARAHAN\, 94300\, Malaysia
END:VEVENT
BEGIN:VEVENT
DTSTART;TZID=Asia/Kuala_Lumpur:20250701T100000
DTEND;TZID=Asia/Kuala_Lumpur:20250701T110000
DTSTAMP:20260422T131923
CREATED:20250701T013256Z
LAST-MODIFIED:20250701T013256Z
UID:2913-1751364000-1751367600@kgsgmata.nadi.my
SUMMARY:NADI x KEUSAHAWANAN
DESCRIPTION:NADI x KEUSAHAWANAN\nWebinar Pemasaran Digital\n(Asas Komunikasi Digital
URL:https://kgsgmata.nadi.my/event/nadi-x-keusahawanan/
LOCATION:NADI KAMPUNG SUNGAI MATA\, KOTA SAMARAHAN\, 94300\, Malaysia
END:VEVENT
BEGIN:VEVENT
DTSTART;TZID=Asia/Kuala_Lumpur:20250701T153000
DTEND;TZID=Asia/Kuala_Lumpur:20250701T163000
DTSTAMP:20260422T131923
CREATED:20250701T013141Z
LAST-MODIFIED:20250701T013141Z
UID:2911-1751383800-1751387400@kgsgmata.nadi.my
SUMMARY:NADI DILEA
DESCRIPTION:OPEN LIVE CLASS \n\ntingkatan 4&5
URL:https://kgsgmata.nadi.my/event/nadi-dilea-4/
LOCATION:NADI KAMPUNG SUNGAI MATA\, KOTA SAMARAHAN\, 94300\, Malaysia
END:VEVENT
BEGIN:VEVENT
DTSTART;TZID=Asia/Kuala_Lumpur:20250719T100000
DTEND;TZID=Asia/Kuala_Lumpur:20250719T120000
DTSTAMP:20260422T131923
CREATED:20250701T012802Z
LAST-MODIFIED:20250701T012802Z
UID:2905-1752919200-1752926400@kgsgmata.nadi.my
SUMMARY:NADI x KOMUNITI MADANI
DESCRIPTION:NADI X KOMUNITI MADANI\n(Belajar Aplikasi Capcut)
URL:https://kgsgmata.nadi.my/event/nadi-x-komuniti-madani-2/
LOCATION:NADI KAMPUNG SUNGAI MATA\, KOTA SAMARAHAN\, 94300\, Malaysia
END:VEVENT
END:VCALENDAR