BEGIN:VCALENDAR
VERSION:2.0
PRODID:-//NADI Kg Sungai Mata - ECPv6.15.20//NONSGML v1.0//EN
CALSCALE:GREGORIAN
METHOD:PUBLISH
X-WR-CALNAME:NADI Kg Sungai Mata
X-ORIGINAL-URL:https://kgsgmata.nadi.my
X-WR-CALDESC:Events for NADI Kg Sungai Mata
REFRESH-INTERVAL;VALUE=DURATION:PT1H
X-Robots-Tag:noindex
X-PUBLISHED-TTL:PT1H
BEGIN:VTIMEZONE
TZID:Asia/Kuala_Lumpur
BEGIN:STANDARD
TZOFFSETFROM:+0800
TZOFFSETTO:+0800
TZNAME:+08
DTSTART:20240101T000000
END:STANDARD
END:VTIMEZONE
BEGIN:VEVENT
DTSTART;VALUE=DATE:20250605
DTEND;VALUE=DATE:20250701
DTSTAMP:20260422T084353
CREATED:20250609T004725Z
LAST-MODIFIED:20250609T004725Z
UID:2812-1749081600-1751327999@kgsgmata.nadi.my
SUMMARY:NADI WELLBEING (SARINGAN KESIHATAN)
DESCRIPTION:SARINGAN KESIHATAN \n*TEKANAN DARAH \n*KANDUNGAN GULA DALAM DARAH
URL:https://kgsgmata.nadi.my/event/nadi-wellbeing-saringan-kesihatan-2/
LOCATION:NADI KAMPUNG SUNGAI MATA\, KOTA SAMARAHAN\, 94300\, Malaysia
END:VEVENT
BEGIN:VEVENT
DTSTART;TZID=Asia/Kuala_Lumpur:20250609T150000
DTEND;TZID=Asia/Kuala_Lumpur:20250624T170000
DTSTAMP:20260422T084353
CREATED:20250609T005230Z
LAST-MODIFIED:20250609T005230Z
UID:2818-1749481200-1750784400@kgsgmata.nadi.my
SUMMARY:NADI Dilea
DESCRIPTION:PROGRAM NADI DiLea (LIVE CLASS) \nTingkatan 4 & 5
URL:https://kgsgmata.nadi.my/event/nadi-dilea-3/
LOCATION:NADI KAMPUNG SUNGAI MATA\, KOTA SAMARAHAN\, 94300\, Malaysia
END:VEVENT
BEGIN:VEVENT
DTSTART;TZID=Asia/Kuala_Lumpur:20250621T080000
DTEND;TZID=Asia/Kuala_Lumpur:20250621T130000
DTSTAMP:20260422T084353
CREATED:20250609T005051Z
LAST-MODIFIED:20250609T005051Z
UID:2814-1750492800-1750510800@kgsgmata.nadi.my
SUMMARY:NADI X KOMUNITI MADANI
DESCRIPTION:Sembang Santai bersama JAPEN
URL:https://kgsgmata.nadi.my/event/nadi-x-komuniti-madani/
LOCATION:NADI KAMPUNG SUNGAI MATA\, KOTA SAMARAHAN\, 94300\, Malaysia
END:VEVENT
END:VCALENDAR