BEGIN:VCALENDAR
VERSION:2.0
PRODID:-//NADI Kg Sungai Mata - ECPv6.15.20//NONSGML v1.0//EN
CALSCALE:GREGORIAN
METHOD:PUBLISH
X-WR-CALNAME:NADI Kg Sungai Mata
X-ORIGINAL-URL:https://kgsgmata.nadi.my
X-WR-CALDESC:Events for NADI Kg Sungai Mata
REFRESH-INTERVAL;VALUE=DURATION:PT1H
X-Robots-Tag:noindex
X-PUBLISHED-TTL:PT1H
BEGIN:VTIMEZONE
TZID:Asia/Kuala_Lumpur
BEGIN:STANDARD
TZOFFSETFROM:+0800
TZOFFSETTO:+0800
TZNAME:+08
DTSTART:20240101T000000
END:STANDARD
END:VTIMEZONE
BEGIN:VEVENT
DTSTART;VALUE=DATE:20250501
DTEND;VALUE=DATE:20250601
DTSTAMP:20260422T144729
CREATED:20250506T014326Z
LAST-MODIFIED:20250506T014326Z
UID:2679-1746057600-1748735999@kgsgmata.nadi.my
SUMMARY:NADI WELLBEING (SARINGAN KESIHATAN)
DESCRIPTION:SARINGAN KESIHATAN (DIBUAT SEPANJANG BULAN)
URL:https://kgsgmata.nadi.my/event/nadi-wellbeing-saringan-kesihatan/
LOCATION:NADI KAMPUNG SUNGAI MATA\, KOTA SAMARAHAN\, 94300\, Malaysia
END:VEVENT
BEGIN:VEVENT
DTSTART;TZID=Asia/Kuala_Lumpur:20250511T080000
DTEND;TZID=Asia/Kuala_Lumpur:20250511T130000
DTSTAMP:20260422T144729
CREATED:20250506T014643Z
LAST-MODIFIED:20250506T014643Z
UID:2681-1746950400-1746968400@kgsgmata.nadi.my
SUMMARY:SERVICE LEARNING
DESCRIPTION:Kelas Service Learning (SULAM) merupakan kelas ICT kerjasama NADI dan Fakulti Sains Komputer dan Teknologi Maklumat.
URL:https://kgsgmata.nadi.my/event/service-learning-6/
LOCATION:NADI KAMPUNG SUNGAI MATA\, KOTA SAMARAHAN\, 94300\, Malaysia
END:VEVENT
BEGIN:VEVENT
DTSTART;TZID=Asia/Kuala_Lumpur:20250517T100000
DTEND;TZID=Asia/Kuala_Lumpur:20250517T120000
DTSTAMP:20260422T144729
CREATED:20250506T014833Z
LAST-MODIFIED:20250506T014833Z
UID:2683-1747476000-1747483200@kgsgmata.nadi.my
SUMMARY:KELAS KOMUNITI MADANI
DESCRIPTION:Kelas ini merupakan inisiatif JAPEN dan NADI yang selalu diadakan pada hari sabtu minggu 1 dan 3 setiap bulan.
URL:https://kgsgmata.nadi.my/event/kelas-komuniti-madani/
LOCATION:NADI KAMPUNG SUNGAI MATA\, KOTA SAMARAHAN\, 94300\, Malaysia
END:VEVENT
BEGIN:VEVENT
DTSTART;TZID=Asia/Kuala_Lumpur:20250524T080000
DTEND;TZID=Asia/Kuala_Lumpur:20250524T120000
DTSTAMP:20260422T144729
CREATED:20250506T015007Z
LAST-MODIFIED:20250506T015007Z
UID:2685-1748073600-1748088000@kgsgmata.nadi.my
SUMMARY:SERVICE LEARNING
DESCRIPTION:Kelas Service Learning (SULAM) merupakan kelas ICT kerjasama NADI dan Fakulti Sains Komputer dan Teknologi Maklumat.
URL:https://kgsgmata.nadi.my/event/service-learning-7/
LOCATION:NADI KAMPUNG SUNGAI MATA\, KOTA SAMARAHAN\, 94300\, Malaysia
END:VEVENT
END:VCALENDAR