BEGIN:VCALENDAR
VERSION:2.0
PRODID:-//NADI Kg Sungai Mata - ECPv6.15.20//NONSGML v1.0//EN
CALSCALE:GREGORIAN
METHOD:PUBLISH
X-WR-CALNAME:NADI Kg Sungai Mata
X-ORIGINAL-URL:https://kgsgmata.nadi.my
X-WR-CALDESC:Events for NADI Kg Sungai Mata
REFRESH-INTERVAL;VALUE=DURATION:PT1H
X-Robots-Tag:noindex
X-PUBLISHED-TTL:PT1H
BEGIN:VTIMEZONE
TZID:Asia/Kuala_Lumpur
BEGIN:STANDARD
TZOFFSETFROM:+0800
TZOFFSETTO:+0800
TZNAME:+08
DTSTART:20250101T000000
END:STANDARD
END:VTIMEZONE
BEGIN:VEVENT
DTSTART;TZID=Asia/Kuala_Lumpur:20260101T080000
DTEND;TZID=Asia/Kuala_Lumpur:20260131T170000
DTSTAMP:20260420T045143
CREATED:20260103T030205Z
LAST-MODIFIED:20260103T030205Z
UID:3391-1767254400-1769878800@kgsgmata.nadi.my
SUMMARY:NADI x WELLBEING (SARINGAN KESIHATAN KENDIRI)
DESCRIPTION:Saringan Kesihatan Kendiri di NADI
URL:https://kgsgmata.nadi.my/event/nadi-x-wellbeing-saringan-kesihatan-kendiri/
LOCATION:NADI KAMPUNG SUNGAI MATA\, KOTA SAMARAHAN\, 94300\, Malaysia
END:VEVENT
BEGIN:VEVENT
DTSTART;TZID=Asia/Kuala_Lumpur:20260109T100000
DTEND;TZID=Asia/Kuala_Lumpur:20260109T113000
DTSTAMP:20260420T045143
CREATED:20260103T035750Z
LAST-MODIFIED:20260103T035750Z
UID:3395-1767952800-1767958200@kgsgmata.nadi.my
SUMMARY:📢 FORUM MAHIR BERSAMA KOMUNITI (INTAKE 3)
DESCRIPTION:Forum MAHIR bagi mengetahui lebih lanjut tentang Program MAHIR Intake 3.\n\n\nTarikh: 9 Januari 2026\nMasa: 10:00 am – 11.30 am\n\n\nAntara kursus yang disediakan adalah:\n Mahir Baiki Gajet\n Mahir Foto\n Mahir Masak\n Mahir Jahit\n Mahir Pertanian Pintar
URL:https://kgsgmata.nadi.my/event/%f0%9f%93%a2-forum-mahir-bersama-komuniti-intake-3/
LOCATION:NADI KAMPUNG SUNGAI MATA\, KOTA SAMARAHAN\, 94300\, Malaysia
END:VEVENT
BEGIN:VEVENT
DTSTART;TZID=Asia/Kuala_Lumpur:20260201T080000
DTEND;TZID=Asia/Kuala_Lumpur:20260228T170000
DTSTAMP:20260420T045143
CREATED:20260203T060846Z
LAST-MODIFIED:20260203T060846Z
UID:3420-1769932800-1772298000@kgsgmata.nadi.my
SUMMARY:NADI WELLBEING
DESCRIPTION:NADI WELLBEING\n– Saringan Kesihatan
URL:https://kgsgmata.nadi.my/event/nadi-wellbeing-5/
LOCATION:NADI KAMPUNG SUNGAI MATA\, KOTA SAMARAHAN\, 94300\, Malaysia
END:VEVENT
BEGIN:VEVENT
DTSTART;TZID=Asia/Kuala_Lumpur:20260203T080000
DTEND;TZID=Asia/Kuala_Lumpur:20260206T170000
DTSTAMP:20260420T045143
CREATED:20260203T060930Z
LAST-MODIFIED:20260203T060930Z
UID:3422-1770105600-1770397200@kgsgmata.nadi.my
SUMMARY:NADI X CYBERSECURITY : LIFELONG LEARNING
DESCRIPTION:NADI X CYBERSECURITY : LIFELONG LEARNING\n– CARA MENANGANI ANCAMA SERANGAN SIBER
URL:https://kgsgmata.nadi.my/event/nadi-x-cybersecurity-lifelong-learning-3/
LOCATION:NADI KAMPUNG SUNGAI MATA\, KOTA SAMARAHAN\, 94300\, Malaysia
END:VEVENT
BEGIN:VEVENT
DTSTART;TZID=Asia/Kuala_Lumpur:20260203T150000
DTEND;TZID=Asia/Kuala_Lumpur:20260228T163000
DTSTAMP:20260420T045143
CREATED:20260203T061048Z
LAST-MODIFIED:20260203T061048Z
UID:3424-1770130800-1772296200@kgsgmata.nadi.my
SUMMARY:NADI MAHIR
DESCRIPTION:NADI MAHIR\n– Masak\n– Menjahit\n– Gadget\n– Pertanian Pintar\n– Foto
URL:https://kgsgmata.nadi.my/event/nadi-mahir/
LOCATION:NADI KAMPUNG SUNGAI MATA\, KOTA SAMARAHAN\, 94300\, Malaysia
END:VEVENT
BEGIN:VEVENT
DTSTART;VALUE=DATE:20260301
DTEND;VALUE=DATE:20260401
DTSTAMP:20260420T045143
CREATED:20260302T003054Z
LAST-MODIFIED:20260302T003054Z
UID:3481-1772323200-1775001599@kgsgmata.nadi.my
SUMMARY:SARINGAN KESIHATAN (NADI WELLBEING)
DESCRIPTION:NADI WELLBEING\n– Saringan Kesihatan
URL:https://kgsgmata.nadi.my/event/saringan-kesihatan-nadi-wellbeing/
LOCATION:NADI KAMPUNG SUNGAI MATA\, KOTA SAMARAHAN\, 94300\, Malaysia
END:VEVENT
BEGIN:VEVENT
DTSTART;TZID=Asia/Kuala_Lumpur:20260305T140000
DTEND;TZID=Asia/Kuala_Lumpur:20260305T153000
DTSTAMP:20260420T045143
CREATED:20260302T003248Z
LAST-MODIFIED:20260302T003248Z
UID:3485-1772719200-1772724600@kgsgmata.nadi.my
SUMMARY:NADI X CYBERSECURITY : LIFELONG LEARNING
DESCRIPTION:NADI X CYBERSECURITY : LIFELONG LEARNING\n– BAHAYA SERANGAN MALWARE
URL:https://kgsgmata.nadi.my/event/nadi-x-cybersecurity-lifelong-learning-4/
LOCATION:NADI KAMPUNG SUNGAI MATA\, KOTA SAMARAHAN\, 94300\, Malaysia
END:VEVENT
BEGIN:VEVENT
DTSTART;TZID=Asia/Kuala_Lumpur:20260314T080000
DTEND;TZID=Asia/Kuala_Lumpur:20260314T160000
DTSTAMP:20260420T045143
CREATED:20260302T003145Z
LAST-MODIFIED:20260302T003145Z
UID:3483-1773475200-1773504000@kgsgmata.nadi.my
SUMMARY:BAZAAR RAYA@NADI 2026
DESCRIPTION:BAZAAR RAYA @ NADI\n– Jualan produk – produk tempatan\n– Saringan kesihatan secara percuma\n– kelas Kidsventure\n– Kelas Keusahawanan lain dan banyak lagi aktiviti
URL:https://kgsgmata.nadi.my/event/bazaar-rayanadi-2026/
LOCATION:NADI KAMPUNG SUNGAI MATA\, KOTA SAMARAHAN\, 94300\, Malaysia
END:VEVENT
BEGIN:VEVENT
DTSTART;TZID=Asia/Kuala_Lumpur:20260401T080000
DTEND;TZID=Asia/Kuala_Lumpur:20260430T170000
DTSTAMP:20260420T045143
CREATED:20260401T013029Z
LAST-MODIFIED:20260401T013029Z
UID:3568-1775030400-1777568400@kgsgmata.nadi.my
SUMMARY:NADI x WELLBEING (SARINGAN KESIHATAN)
DESCRIPTION:SARINGAN KESIHATAN KENDIRI
URL:https://kgsgmata.nadi.my/event/nadi-x-wellbeing-saringan-kesihatan/
LOCATION:NADI KAMPUNG SUNGAI MATA\, KOTA SAMARAHAN\, 94300\, Malaysia
END:VEVENT
BEGIN:VEVENT
DTSTART;TZID=Asia/Kuala_Lumpur:20260409T150000
DTEND;TZID=Asia/Kuala_Lumpur:20260409T160000
DTSTAMP:20260420T045143
CREATED:20260401T013152Z
LAST-MODIFIED:20260401T013152Z
UID:3570-1775746800-1775750400@kgsgmata.nadi.my
SUMMARY:NADI X CYBERSECURITY : LIFELONG LEARNING
DESCRIPTION:NADI X CYBERSECURITY : LIFELONG LEARNING\n– Cara Menjaga Keselamatan CCTV dan WiFi Rumah dari Digodam
URL:https://kgsgmata.nadi.my/event/nadi-x-cybersecurity-lifelong-learning-5/
LOCATION:NADI KAMPUNG SUNGAI MATA\, KOTA SAMARAHAN\, 94300\, Malaysia
END:VEVENT
END:VCALENDAR