BEGIN:VCALENDAR
VERSION:2.0
PRODID:-//NADI Kg Sungai Mata - ECPv6.15.20//NONSGML v1.0//EN
CALSCALE:GREGORIAN
METHOD:PUBLISH
X-WR-CALNAME:NADI Kg Sungai Mata
X-ORIGINAL-URL:https://kgsgmata.nadi.my
X-WR-CALDESC:Events for NADI Kg Sungai Mata
REFRESH-INTERVAL;VALUE=DURATION:PT1H
X-Robots-Tag:noindex
X-PUBLISHED-TTL:PT1H
BEGIN:VTIMEZONE
TZID:UTC
BEGIN:STANDARD
TZOFFSETFROM:+0000
TZOFFSETTO:+0000
TZNAME:UTC
DTSTART:20220101T000000
END:STANDARD
END:VTIMEZONE
BEGIN:VEVENT
DTSTART;TZID=UTC:20240608T090000
DTEND;TZID=UTC:20240608T130000
DTSTAMP:20260426T071708
CREATED:20240604T202935Z
LAST-MODIFIED:20240604T202935Z
UID:2212-1717837200-1717851600@kgsgmata.nadi.my
SUMMARY:KLIK DENGAN BIJAK 1
DESCRIPTION:ADVOKASI KLIK DENGAN BIJAK 1 \n* Kebebasan Bersuara Bukan Kebebasan Berbohong \n* Video Advokasi
URL:https://kgsgmata.nadi.my/event/klik-dengan-bijak-1-4/
LOCATION:NADI KG SG MATA\, NADI KG SG MATA
CATEGORIES:DEFAULT
END:VEVENT
BEGIN:VEVENT
DTSTART;TZID=UTC:20240523T080000
DTEND;TZID=UTC:20240525T170000
DTSTAMP:20260426T071708
CREATED:20240503T190930Z
LAST-MODIFIED:20240503T190930Z
UID:2211-1716451200-1716656400@kgsgmata.nadi.my
SUMMARY:E-PEMBELAJARAN /SOFTSKILL/ KELAS KEUSAHAWANAN
DESCRIPTION:E-PEMBELAJARAN 3 \n* Aplikasi Pembelajaran\, Tutorial\, Kuiz dan Permainan Pendidikan` \n  \nSOFTSKILL \n*Microsoft Word (Resume & cv writing) \n  \nKELAS KEUSAHAWAN 2 \n* Katalog perniagaan\, Brochur dll
URL:https://kgsgmata.nadi.my/event/e-pembelajaran-softskill-kelas-keusahawanan/
LOCATION:NADI KG SG MATA\, NADI KG SG MATA
CATEGORIES:DEFAULT
END:VEVENT
BEGIN:VEVENT
DTSTART;TZID=UTC:20240519T080000
DTEND;TZID=UTC:20240521T170000
DTSTAMP:20260426T071708
CREATED:20240503T190623Z
LAST-MODIFIED:20240503T190623Z
UID:2210-1716105600-1716310800@kgsgmata.nadi.my
SUMMARY:ADVOKASI KLIK DENGAN BIJAK (3) & IOT/STEM
DESCRIPTION: ADVOKASI KLIK DENGAN BIJAK 3 \n* Penipuan di Internet \n  \nIoT & STEM 2 \n*Pembelajaran dan video dalam subjek STEM
URL:https://kgsgmata.nadi.my/event/advokasi-klik-dengan-bijak-3-iot-stem/
LOCATION:NADI KG SG MATA\, NADI KG SG MATA
CATEGORIES:DEFAULT
END:VEVENT
BEGIN:VEVENT
DTSTART;TZID=UTC:20240512T080000
DTEND;TZID=UTC:20240518T235959
DTSTAMP:20260426T071708
CREATED:20240503T190435Z
LAST-MODIFIED:20240503T190435Z
UID:2209-1715500800-1716076799@kgsgmata.nadi.my
SUMMARY:ADVOKASI KLIK DENGAN BIJAK (2) & KELAS KEUSAHAWANAN
DESCRIPTION:ADVOKASI KLIK DENGAN BIJAK 2 \n* Love Scammer / eMail Scammer \n  \nKELAS KEUSAHAWAN 1 \n* Microsoft Office – Word \, Excel etc.. \n* Canva\, Postermywall.com
URL:https://kgsgmata.nadi.my/event/advokasi-klik-dengan-bijak-2-kelas-keusahawanan/
LOCATION:NADI KG SG MATA\, NADI KG SG MATA
CATEGORIES:DEFAULT
END:VEVENT
BEGIN:VEVENT
DTSTART;TZID=UTC:20240502T080000
DTEND;TZID=UTC:20240511T170000
DTSTAMP:20260426T071708
CREATED:20240503T190207Z
LAST-MODIFIED:20240503T190207Z
UID:2208-1714636800-1715446800@kgsgmata.nadi.my
SUMMARY:ADVOKASI KLIK DENGAN BIJAK (I) & KELAS ICT
DESCRIPTION:ADVOKASI KLIK DENGAN BIJAK 1 \n* Sebenarnya.my \n* Mentusahkan Maklumat \n  \nE – GOVERNMENT \n* Laman Web Kerajaan – E-Recruitment\, SPA\, RMR Munakahat\, HRMIS\,idME\, STR dan lain-lain \n  \nKELAS ASAS ICT 1 \n* Mobile Phone /Telefon Pintar  \n  \nE-PEMBELAJARAN 1 \n* Aplikasi Pembelajaran\, Tutorial\, Kuiz Kahoot dan Permainan Pendidikan.
URL:https://kgsgmata.nadi.my/event/advokasi-klik-dengan-bijak-i-kelas-ict/
LOCATION:NADI KG SG MATA\, NADI KG SG MATA
CATEGORIES:DEFAULT
END:VEVENT
BEGIN:VEVENT
DTSTART;TZID=UTC:20240421T080000
DTEND;TZID=UTC:20240427T170000
DTSTAMP:20260426T071708
CREATED:20240406T170903Z
LAST-MODIFIED:20240406T170903Z
UID:2207-1713686400-1714237200@kgsgmata.nadi.my
SUMMARY:SOFTSKILL & KELAS KEUSAHAWANAN
DESCRIPTION:SOFTSKILL \n*Microsoft Word (Resume & cv writing) \nKELAS KEUSAHAWAN  \n* Poster Perniagaan
URL:https://kgsgmata.nadi.my/event/softskill-kelas-keusahawanan/
LOCATION:NADI KG SG MATA\, NADI KG SG MATA
CATEGORIES:DEFAULT
END:VEVENT
BEGIN:VEVENT
DTSTART;TZID=UTC:20240414T080000
DTEND;TZID=UTC:20240420T170000
DTSTAMP:20260426T071708
CREATED:20240406T170758Z
LAST-MODIFIED:20240406T170758Z
UID:2206-1713081600-1713632400@kgsgmata.nadi.my
SUMMARY:IOT & STEM / E-PEMBELAJARAN
DESCRIPTION:IoT & STEM 2 \n*Pembelajaran dan video dalam subjek STEM \nE-PEMBELAJARAN 2 \n* Aplikasi Pembelajaran\, Tutorial\, Kuiz dan Permainan Pendidikan
URL:https://kgsgmata.nadi.my/event/iot-stem-e-pembelajaran/
LOCATION:NADI KG SG MATA\, NADI KG SG MATA
CATEGORIES:DEFAULT
END:VEVENT
BEGIN:VEVENT
DTSTART;TZID=UTC:20240401T080000
DTEND;TZID=UTC:20240407T170000
DTSTAMP:20260426T071708
CREATED:20240406T170556Z
LAST-MODIFIED:20240406T170556Z
UID:2205-1711958400-1712509200@kgsgmata.nadi.my
SUMMARY:ADVOKASI KDB 1
DESCRIPTION:* lindungi hak kanak-kanak \n* K.I.T.A.R
URL:https://kgsgmata.nadi.my/event/advokasi-kdb-1-9/
LOCATION:NADI KG SG MATA\, NADI KG SG MATA
CATEGORIES:DEFAULT
END:VEVENT
BEGIN:VEVENT
DTSTART;TZID=UTC:20240330T000000
DTEND;TZID=UTC:20240330T235959
DTSTAMP:20260426T071708
CREATED:20240303T165916Z
LAST-MODIFIED:20240303T165916Z
UID:2203-1711756800-1711843199@kgsgmata.nadi.my
SUMMARY:e-Pembelajaran
DESCRIPTION:E-PEMBELAJARAN \n* Aplikasi Pembelajaran\, Tutorial\, Kuiz dan Permainan Pendidikan
URL:https://kgsgmata.nadi.my/event/e-pembelajaran-8/
LOCATION:PEDi Kg Sg Mata\, PEDi Kg Sg Mata
CATEGORIES:DEFAULT
END:VEVENT
BEGIN:VEVENT
DTSTART;TZID=UTC:20240323T090000
DTEND;TZID=UTC:20240323T130000
DTSTAMP:20260426T071708
CREATED:20240303T165808Z
LAST-MODIFIED:20240303T165808Z
UID:2202-1711184400-1711198800@kgsgmata.nadi.my
SUMMARY:KELAS ASAS ICT 2 (SOFTWARE & APPLICATION)
DESCRIPTION:KELAS ASAS ICT 2 \n* CANVA (Kad ucapan Bulan Ramadan Al Mubarak)
URL:https://kgsgmata.nadi.my/event/kelas-asas-ict-2-software-application/
LOCATION:PEDi Kg Sg Mata\, PEDi Kg Sg Mata
CATEGORIES:DEFAULT
END:VEVENT
BEGIN:VEVENT
DTSTART;TZID=UTC:20240315T090000
DTEND;TZID=UTC:20240315T123000
DTSTAMP:20260426T071708
CREATED:20240303T165647Z
LAST-MODIFIED:20240303T165647Z
UID:2201-1710493200-1710505800@kgsgmata.nadi.my
SUMMARY:KLIK DENGAN BIJAK
DESCRIPTION:ADVOKASI KLIK DENGAN BIJAK  \n* Buli siber \n* Lindungi hak kanak-kanak
URL:https://kgsgmata.nadi.my/event/klik-dengan-bijak-8/
LOCATION:PEDi Kg Sg Mata\, PEDi Kg Sg Mata
CATEGORIES:DEFAULT
END:VEVENT
BEGIN:VEVENT
DTSTART;TZID=UTC:20240307T000000
DTEND;TZID=UTC:20240308T235959
DTSTAMP:20260426T071708
CREATED:20240303T165527Z
LAST-MODIFIED:20240303T165527Z
UID:2200-1709769600-1709942399@kgsgmata.nadi.my
SUMMARY:KELAS ASAS ICT 1
DESCRIPTION:KELAS ASAS ICT 1 \n* Membuat Resume / CV untuk pekerjaan
URL:https://kgsgmata.nadi.my/event/kelas-asas-ict-1/
LOCATION:PEDi Kg Sg Mata\, PEDi Kg Sg Mata
CATEGORIES:DEFAULT
END:VEVENT
BEGIN:VEVENT
DTSTART;TZID=UTC:20240305T000000
DTEND;TZID=UTC:20240306T235959
DTSTAMP:20260426T071708
CREATED:20240303T165432Z
LAST-MODIFIED:20240303T165432Z
UID:2199-1709596800-1709769599@kgsgmata.nadi.my
SUMMARY:e-Pembelajaran
DESCRIPTION:E-PEMBELAJARAN 1 \n* Aplikasi Pembelajaran\, Tutorial\, Kuiz Kahoot dan Permainan Pendidikan.
URL:https://kgsgmata.nadi.my/event/e-pembelajaran-7/
LOCATION:PEDi Kg Sg Mata\, PEDi Kg Sg Mata
CATEGORIES:DEFAULT
END:VEVENT
BEGIN:VEVENT
DTSTART;TZID=UTC:20240225T080000
DTEND;TZID=UTC:20240225T170000
DTSTAMP:20260426T071708
CREATED:20240202T221155Z
LAST-MODIFIED:20240202T221155Z
UID:2195-1708848000-1708880400@kgsgmata.nadi.my
SUMMARY:HARI BERSAMA KOMUNITI (MINI) PEDI KG SG MATA
DESCRIPTION:– KELAS KEUSAHAWANAN \n– PAMERAN USAHAWAN \n– PROGRAM DERMA DARAH
URL:https://kgsgmata.nadi.my/event/hari-bersama-komuniti-mini-pedi-kg-sg-mata/
LOCATION:PEDi Kg Sg Mata\, PEDi Kg Sg Mata
CATEGORIES:DEFAULT
END:VEVENT
BEGIN:VEVENT
DTSTART;TZID=UTC:20240212T000000
DTEND;TZID=UTC:20240218T235959
DTSTAMP:20260426T071708
CREATED:20240202T221933Z
LAST-MODIFIED:20240202T221933Z
UID:2198-1707696000-1708300799@kgsgmata.nadi.my
SUMMARY:KELAS ICT & E-PEMBELAJARAN
DESCRIPTION:KELAS ASAS ICT 2 \n* CANVA (Kad ucapan Selamat Tahun Baharu Cina 2024) \n* Microsoft Powerpoint \nE-PEMBELAJARAN 2 \n* Aplikasi Pembelajaran\, Tutorial\, Kuiz dan Permainan Pendidikan
URL:https://kgsgmata.nadi.my/event/kelas-ict-e-pembelajaran-3/
LOCATION:PEDi Kg Sg Mata\, PEDi Kg Sg Mata
CATEGORIES:DEFAULT
END:VEVENT
BEGIN:VEVENT
DTSTART;TZID=UTC:20240205T000000
DTEND;TZID=UTC:20240209T235959
DTSTAMP:20260426T071708
CREATED:20240202T221706Z
LAST-MODIFIED:20240202T221706Z
UID:2197-1707091200-1707523199@kgsgmata.nadi.my
SUMMARY:ADVOKASI KDB & KELAS KEUSAHAWANAN & IOT/STEM
DESCRIPTION:ADVOKASI KLIK DENGAN BIJAK 2 \n* Lindungi hak kanak-kanak \nKELAS KEUSAHAWAN 1 \n* Microsoft Office \n* Perbankan dalam talian \nIoT & STEM 1 \n* Aktiviti Berkumpulan
URL:https://kgsgmata.nadi.my/event/advokasi-kdb-kelas-keusahawanan-iot-stem/
LOCATION:PEDi Kg Sg Mata\, PEDi Kg Sg Mata
CATEGORIES:DEFAULT
END:VEVENT
BEGIN:VEVENT
DTSTART;TZID=UTC:20240201T000000
DTEND;TZID=UTC:20240204T235959
DTSTAMP:20260426T071708
CREATED:20240202T221501Z
LAST-MODIFIED:20240202T221501Z
UID:2196-1706745600-1707091199@kgsgmata.nadi.my
SUMMARY:ADVOKASI KDB & ICT
DESCRIPTION:ADVOKASI KLIK DENGAN BIJAK 1 \n* Scammer panggilan telefon \n* Buli Siber \nE – GOVERNMENT \n* Laman Web Kerajaan – E-Recruitment\, SPA\, RMR Munakahat\, HRMIS\,idME\, PADU dan lain-lain \nKELAS ASAS ICT 1 \n* Asas Komponen Komputer \n* Microsoft Excel (Membuat Carta Aliran) \nE-PEMBELAJARAN 1 \n* Aplikasi Pembelajaran\, Tutorial\, Kuiz Kahoot dan Permainan Pendidikan.
URL:https://kgsgmata.nadi.my/event/advokasi-kdb-ict/
LOCATION:PEDi Kg Sg Mata\, PEDi Kg Sg Mata
CATEGORIES:DEFAULT
END:VEVENT
BEGIN:VEVENT
DTSTART;TZID=UTC:20240115T000000
DTEND;TZID=UTC:20240121T235959
DTSTAMP:20260426T071708
CREATED:20240105T203219Z
LAST-MODIFIED:20240105T203219Z
UID:2192-1705276800-1705881599@kgsgmata.nadi.my
SUMMARY:PROGRAM PADU
DESCRIPTION:Padu Pendaftaran dan pengemaskinian maklumat individu dalam Sistem PADU telah bermula pada. 2 Januari 2024.
URL:https://kgsgmata.nadi.my/event/program-padu-2/
LOCATION:PEDi Kg Sg Mata\, PEDi Kg Sg Mata
CATEGORIES:DEFAULT
END:VEVENT
BEGIN:VEVENT
DTSTART;TZID=UTC:20240115T000000
DTEND;TZID=UTC:20240121T235959
DTSTAMP:20260426T071708
CREATED:20240105T203219Z
LAST-MODIFIED:20240105T203219Z
UID:2147-1705276800-1705881599@kgsgmata.nadi.my
SUMMARY:PROGRAM PADU
DESCRIPTION:Padu Pendaftaran dan pengemaskinian maklumat individu dalam Sistem PADU telah bermula pada. 2 Januari 2024.
URL:https://kgsgmata.nadi.my/event/program-padu/
LOCATION:PEDi Kg Sg Mata\, PEDi Kg Sg Mata
CATEGORIES:DEFAULT
END:VEVENT
BEGIN:VEVENT
DTSTART;TZID=UTC:20240108T000000
DTEND;TZID=UTC:20240114T235959
DTSTAMP:20260426T071708
CREATED:20240105T204032Z
LAST-MODIFIED:20240105T204032Z
UID:2149-1704672000-1705276799@kgsgmata.nadi.my
SUMMARY:KELAS KEUSAHAWANAN 1
DESCRIPTION:* Microsoft Office \n* Perbankan dalam talian \n* Tik-Tok Affiliate / Shopee Shop
URL:https://kgsgmata.nadi.my/event/kelas-keusahawanan-1/
LOCATION:PEDi Kg Sg Mata\, PEDi Kg Sg Mata
CATEGORIES:DEFAULT
END:VEVENT
BEGIN:VEVENT
DTSTART;TZID=UTC:20240108T000000
DTEND;TZID=UTC:20240114T235959
DTSTAMP:20260426T071708
CREATED:20240105T204032Z
LAST-MODIFIED:20240105T204032Z
UID:2194-1704672000-1705276799@kgsgmata.nadi.my
SUMMARY:KELAS KEUSAHAWANAN 1
DESCRIPTION:* Microsoft Office \n* Perbankan dalam talian \n* Tik-Tok Affiliate / Shopee Shop
URL:https://kgsgmata.nadi.my/event/kelas-keusahawanan-1-2/
LOCATION:PEDi Kg Sg Mata\, PEDi Kg Sg Mata
CATEGORIES:DEFAULT
END:VEVENT
BEGIN:VEVENT
DTSTART;TZID=UTC:20240102T000000
DTEND;TZID=UTC:20240121T235959
DTSTAMP:20260426T071708
CREATED:20240105T203642Z
LAST-MODIFIED:20240105T203642Z
UID:2148-1704153600-1705881599@kgsgmata.nadi.my
SUMMARY:ADVOKASI KDB
DESCRIPTION:02 – 07/01/2024 -ADVOKASI KDB 1 \n* Love scammer \n* Oversharing \n  \n08 – 14/01/2024 -ADVOKASI KDB 2 \n* Theft Identity \n* Sebenarnya.my \n  \n15 – 21/01/2024 -ADVOKASI KDB 3 \n* Buli Siber \n* Body Shaming
URL:https://kgsgmata.nadi.my/event/advokasi-kdb-6/
LOCATION:PEDi Kg Sg Mata\, PEDi Kg Sg Mata
CATEGORIES:DEFAULT
END:VEVENT
BEGIN:VEVENT
DTSTART;TZID=UTC:20240102T000000
DTEND;TZID=UTC:20240121T235959
DTSTAMP:20260426T071708
CREATED:20240105T203642Z
LAST-MODIFIED:20240105T203642Z
UID:2193-1704153600-1705881599@kgsgmata.nadi.my
SUMMARY:ADVOKASI KDB
DESCRIPTION:02 – 07/01/2024 -ADVOKASI KDB 1 \n* Love scammer \n* Oversharing \n  \n08 – 14/01/2024 -ADVOKASI KDB 2 \n* Theft Identity \n* Sebenarnya.my \n  \n15 – 21/01/2024 -ADVOKASI KDB 3 \n* Buli Siber \n* Body Shaming
URL:https://kgsgmata.nadi.my/event/advokasi-kdb-8/
LOCATION:PEDi Kg Sg Mata\, PEDi Kg Sg Mata
CATEGORIES:DEFAULT
END:VEVENT
BEGIN:VEVENT
DTSTART;TZID=UTC:20231226T080000
DTEND;TZID=UTC:20231231T170000
DTSTAMP:20260426T071708
CREATED:20231201T235549Z
LAST-MODIFIED:20231201T235549Z
UID:2146-1703577600-1704042000@kgsgmata.nadi.my
SUMMARY:KELAS SOFTSKILL
DESCRIPTION:SOFTSKILL \n*Microsoft Word (Resume)
URL:https://kgsgmata.nadi.my/event/kelas-softskill/
LOCATION:PEDi Kg Sg Mata\, PEDi Kg Sg Mata
CATEGORIES:DEFAULT
END:VEVENT
BEGIN:VEVENT
DTSTART;TZID=UTC:20231226T080000
DTEND;TZID=UTC:20231231T170000
DTSTAMP:20260426T071708
CREATED:20231201T235549Z
LAST-MODIFIED:20231201T235549Z
UID:2191-1703577600-1704042000@kgsgmata.nadi.my
SUMMARY:KELAS SOFTSKILL
DESCRIPTION:SOFTSKILL \n*Microsoft Word (Resume)
URL:https://kgsgmata.nadi.my/event/kelas-softskill-2/
LOCATION:PEDi Kg Sg Mata\, PEDi Kg Sg Mata
CATEGORIES:DEFAULT
END:VEVENT
BEGIN:VEVENT
DTSTART;TZID=UTC:20231218T080000
DTEND;TZID=UTC:20231224T170000
DTSTAMP:20260426T071708
CREATED:20231201T235415Z
LAST-MODIFIED:20231201T235415Z
UID:2145-1702886400-1703437200@kgsgmata.nadi.my
SUMMARY:KELAS ICT & E-PEMBELAJARAN
DESCRIPTION:KELAS ASAS ICT 2 \n* CANVA (Kad ucapan hari perayaan krismas) \n* Microsoft Publisher  \n* Microsoft Powerpoint \n  \nE-PEMBELAJARAN 2  \n* Aplikasi Pembelajaran\, Tutorial\, Kuiz dan Permainan Pendidikan
URL:https://kgsgmata.nadi.my/event/kelas-ict-e-pembelajaran/
LOCATION:PEDi Kg Sg Mata\, PEDi Kg Sg Mata
CATEGORIES:DEFAULT
END:VEVENT
BEGIN:VEVENT
DTSTART;TZID=UTC:20231218T080000
DTEND;TZID=UTC:20231224T170000
DTSTAMP:20260426T071708
CREATED:20231201T235415Z
LAST-MODIFIED:20231201T235415Z
UID:2190-1702886400-1703437200@kgsgmata.nadi.my
SUMMARY:KELAS ICT & E-PEMBELAJARAN
DESCRIPTION:KELAS ASAS ICT 2 \n* CANVA (Kad ucapan hari perayaan krismas) \n* Microsoft Publisher  \n* Microsoft Powerpoint \n  \nE-PEMBELAJARAN 2  \n* Aplikasi Pembelajaran\, Tutorial\, Kuiz dan Permainan Pendidikan
URL:https://kgsgmata.nadi.my/event/kelas-ict-e-pembelajaran-2/
LOCATION:PEDi Kg Sg Mata\, PEDi Kg Sg Mata
CATEGORIES:DEFAULT
END:VEVENT
BEGIN:VEVENT
DTSTART;TZID=UTC:20231211T080000
DTEND;TZID=UTC:20231218T200000
DTSTAMP:20260426T071708
CREATED:20231201T235146Z
LAST-MODIFIED:20231201T235146Z
UID:2144-1702281600-1702929600@kgsgmata.nadi.my
SUMMARY:KELAS KEUSAHAWANAN 1 & KELAS IOT/STEM
DESCRIPTION:KELAS KEUSAHAWAN 1 \n* Microsoft Office \n* Perbankan dalam talian * Media Sosial \n  \nIoT & STEM 1 \n* Pengenalan kepada Asas IOT \n* Pengenalan kepada “Apa itu STEM”
URL:https://kgsgmata.nadi.my/event/kelas-keusahawanan-1-kelas-iot-stem/
LOCATION:PEDi Kg Sg Mata\, PEDi Kg Sg Mata
CATEGORIES:DEFAULT
END:VEVENT
BEGIN:VEVENT
DTSTART;TZID=UTC:20231211T080000
DTEND;TZID=UTC:20231218T200000
DTSTAMP:20260426T071708
CREATED:20231201T235146Z
LAST-MODIFIED:20231201T235146Z
UID:2189-1702281600-1702929600@kgsgmata.nadi.my
SUMMARY:KELAS KEUSAHAWANAN 1 & KELAS IOT/STEM
DESCRIPTION:KELAS KEUSAHAWAN 1 \n* Microsoft Office \n* Perbankan dalam talian * Media Sosial \n  \nIoT & STEM 1 \n* Pengenalan kepada Asas IOT \n* Pengenalan kepada “Apa itu STEM”
URL:https://kgsgmata.nadi.my/event/kelas-keusahawanan-1-kelas-iot-stem-2/
LOCATION:PEDi Kg Sg Mata\, PEDi Kg Sg Mata
CATEGORIES:DEFAULT
END:VEVENT
BEGIN:VEVENT
DTSTART;TZID=UTC:20231201T080000
DTEND;TZID=UTC:20231210T080000
DTSTAMP:20260426T071708
CREATED:20231201T234919Z
LAST-MODIFIED:20231201T234919Z
UID:2143-1701417600-1702195200@kgsgmata.nadi.my
SUMMARY:ADVOKASI KDB 1 & KELAS ICT
DESCRIPTION:ADVOKASI KLIK DENGAN BIJAK 1 \n* Penipuan dalam internet \n* Maklumat palsu \n  \nKELAS ASAS ICT 1 \n* Perkakasan Komputer \n* Microsoft Word (Belajar menaip) \n* Microsoft Excel (Poster)
URL:https://kgsgmata.nadi.my/event/advokasi-kdb-1-kelas-ict/
LOCATION:PEDi Kg Sg Mata\, PEDi Kg Sg Mata
CATEGORIES:DEFAULT
END:VEVENT
END:VCALENDAR