BEGIN:VCALENDAR
VERSION:2.0
PRODID:-//NADI Kg Sungai Mata - ECPv6.15.20//NONSGML v1.0//EN
CALSCALE:GREGORIAN
METHOD:PUBLISH
X-WR-CALNAME:NADI Kg Sungai Mata
X-ORIGINAL-URL:https://kgsgmata.nadi.my
X-WR-CALDESC:Events for NADI Kg Sungai Mata
REFRESH-INTERVAL;VALUE=DURATION:PT1H
X-Robots-Tag:noindex
X-PUBLISHED-TTL:PT1H
BEGIN:VTIMEZONE
TZID:UTC
BEGIN:STANDARD
TZOFFSETFROM:+0000
TZOFFSETTO:+0000
TZNAME:UTC
DTSTART:20230101T000000
END:STANDARD
END:VTIMEZONE
BEGIN:VEVENT
DTSTART;TZID=UTC:20241116T080000
DTEND;TZID=UTC:20241116T130000
DTSTAMP:20260424T053411
CREATED:20241104T190653Z
LAST-MODIFIED:20241104T190653Z
UID:2231-1731744000-1731762000@kgsgmata.nadi.my
SUMMARY:SERVICE LEARNING COLAB UNIMAS
DESCRIPTION:SERVICE LEARNING COLAB UNIMAS \n* Visit ke 2 student unimas dan kelas (Group 1)
URL:https://kgsgmata.nadi.my/event/service-learning-colab-unimas/
LOCATION:NADI KG SG MATA\, NADI KG SG MATA
CATEGORIES:DEFAULT
END:VEVENT
BEGIN:VEVENT
DTSTART;TZID=UTC:20241109T090000
DTEND;TZID=UTC:20241109T120000
DTSTAMP:20260424T053411
CREATED:20241104T190806Z
LAST-MODIFIED:20241104T190806Z
UID:2232-1731142800-1731153600@kgsgmata.nadi.my
SUMMARY:KELAS PENSIJILAN ESPORT
DESCRIPTION:KELAS PENSIJILAN E-SPORT
URL:https://kgsgmata.nadi.my/event/kelas-pensijilan-esport/
LOCATION:NADI KG SG MATA\, NADI KG SG MATA
CATEGORIES:DEFAULT
END:VEVENT
BEGIN:VEVENT
DTSTART;TZID=UTC:20241105T080000
DTEND;TZID=UTC:20241105T120000
DTSTAMP:20260424T053411
CREATED:20241104T190609Z
LAST-MODIFIED:20241104T190609Z
UID:2230-1730793600-1730808000@kgsgmata.nadi.my
SUMMARY:ADVOKASI KLIK DENGAN BIJAK
DESCRIPTION:ADVOKASI KLIK DENGAN BIJAK 1 \n* Safe & Shield
URL:https://kgsgmata.nadi.my/event/advokasi-klik-dengan-bijak-7/
LOCATION:NADI KG SG MATA\, NADI KG SG MATA
CATEGORIES:DEFAULT
END:VEVENT
BEGIN:VEVENT
DTSTART;TZID=UTC:20241026T080000
DTEND;TZID=UTC:20241026T235959
DTSTAMP:20260424T053411
CREATED:20241001T183109Z
LAST-MODIFIED:20241001T183109Z
UID:2229-1729929600-1729987199@kgsgmata.nadi.my
SUMMARY:KELAS KEUSAHAWANAN
DESCRIPTION:KELAS KEUSAHAWAN 1 \n* Microsoft Office – Publisher etc.. \n* Canva
URL:https://kgsgmata.nadi.my/event/kelas-keusahawanan-27/
LOCATION:NADI KG SG MATA\, NADI KG SG MATA
CATEGORIES:DEFAULT
END:VEVENT
BEGIN:VEVENT
DTSTART;TZID=UTC:20241017T080000
DTEND;TZID=UTC:20241019T235959
DTSTAMP:20260424T053411
CREATED:20241001T183014Z
LAST-MODIFIED:20241001T183014Z
UID:2228-1729152000-1729382399@kgsgmata.nadi.my
SUMMARY:PERTANDINGAN MLBB PERINGKAT NADI
DESCRIPTION:PERTANDINGAN MLBB PERINGKAT NADI SARAWAK (NADI Esport) \n* Dijalankan di NADI
URL:https://kgsgmata.nadi.my/event/pertandingan-mlbb-peringkat-nadi/
LOCATION:NADI KG SG MATA\, NADI KG SG MATA
CATEGORIES:DEFAULT
END:VEVENT
BEGIN:VEVENT
DTSTART;TZID=UTC:20241006T080000
DTEND;TZID=UTC:20241006T130000
DTSTAMP:20260424T053411
CREATED:20241001T182754Z
LAST-MODIFIED:20241001T182754Z
UID:2226-1728201600-1728219600@kgsgmata.nadi.my
SUMMARY:PROGRAM MENDERMA DARAH
DESCRIPTION:PROGRAM MENDERMA DARAH \n* Kerjasama Tabung Darah Hospital Serian
URL:https://kgsgmata.nadi.my/event/program-menderma-darah/
LOCATION:NADI KG SG MATA\, NADI KG SG MATA
CATEGORIES:DEFAULT
END:VEVENT
BEGIN:VEVENT
DTSTART;TZID=UTC:20241005T100000
DTEND;TZID=UTC:20241005T120000
DTSTAMP:20260424T053411
CREATED:20241001T182911Z
LAST-MODIFIED:20241001T182911Z
UID:2227-1728122400-1728129600@kgsgmata.nadi.my
SUMMARY:ADVOKASI KLIK DENGAN BIJAK
DESCRIPTION:ADVOKASI KLIK DENGAN BIJAK 1 \n* Oversharing \n* Lindungi Hak Kanak-Kanak \n* Video Advokasi
URL:https://kgsgmata.nadi.my/event/advokasi-klik-dengan-bijak-6/
LOCATION:NADI KG SG MATA\, NADI KG SG MATA
CATEGORIES:DEFAULT
END:VEVENT
BEGIN:VEVENT
DTSTART;TZID=UTC:20240916T080000
DTEND;TZID=UTC:20240922T080000
DTSTAMP:20260424T053411
CREATED:20240902T230705Z
LAST-MODIFIED:20240902T230705Z
UID:2223-1726473600-1726992000@kgsgmata.nadi.my
SUMMARY:PROGRAM CUTI SEKOLAH
DESCRIPTION:PROGRAM CUTI SEKOLAH \n ADVOKASI KLIK DENGAN BIJAK 3 \n* KITAR (Mobile eWaste) \nKELAS KEUSAHAWANAN 2 \n* Microsoft Office – Publisher etc.. \n* Canva \nIoT & STEM 1 \n* Aktiviti Berkumpulan 1 \nPERTANDINGAN MOBILE LAGEND BANG BANG (MLBB) PERINGKAT NADI. \n* Segala perubahan akan dimaklumkan dari semasa ke semasa
URL:https://kgsgmata.nadi.my/event/program-cuti-sekolah-3/
LOCATION:NADI KG SG MATA\, NADI KG SG MATA
CATEGORIES:DEFAULT
END:VEVENT
BEGIN:VEVENT
DTSTART;TZID=UTC:20240909T080000
DTEND;TZID=UTC:20240915T170000
DTSTAMP:20260424T053411
CREATED:20240902T231158Z
LAST-MODIFIED:20240902T231158Z
UID:2225-1725868800-1726419600@kgsgmata.nadi.my
SUMMARY:KELAS KEUSAHAWANAN
DESCRIPTION:KELAS KEUSAHAWANAN 1 \n* Microsoft Word: Membuat Delivery Order\, Invoice dll  \n* Segala perubahan akan dimaklumkan dari semasa ke semasa
URL:https://kgsgmata.nadi.my/event/kelas-keusahawanan-26/
LOCATION:NADI KG SG MATA\, NADI KG SG MATA
CATEGORIES:DEFAULT
END:VEVENT
BEGIN:VEVENT
DTSTART;TZID=UTC:20240902T080000
DTEND;TZID=UTC:20240908T170000
DTSTAMP:20260424T053411
CREATED:20240902T231011Z
LAST-MODIFIED:20240902T231011Z
UID:2224-1725264000-1725814800@kgsgmata.nadi.my
SUMMARY:ADVOKASI KLIK DENGAN BIJAK 1
DESCRIPTION:ADVOKASI KLIK DENGAN BIJAK 1 \n* Buli Siber \n* Lindungi Hak Kanak-Kanak \n* Video Advokasi \n* Segala perubahan akan dimaklumkan dari semasa ke semasa
URL:https://kgsgmata.nadi.my/event/advokasi-klik-dengan-bijak-1-6/
LOCATION:NADI KG SG MATA\, NADI KG SG MATA
CATEGORIES:DEFAULT
END:VEVENT
BEGIN:VEVENT
DTSTART;TZID=UTC:20240824T100000
DTEND;TZID=UTC:20240824T120000
DTSTAMP:20260424T053411
CREATED:20240822T233436Z
LAST-MODIFIED:20240822T233436Z
UID:2222-1724493600-1724500800@kgsgmata.nadi.my
SUMMARY:ePembelajaran
DESCRIPTION:E-PEMBELAJARAN 2 \n* Aplikasi Pembelajaran\, Tutorial\, Kuiz dan Permainan Pendidikan
URL:https://kgsgmata.nadi.my/event/epembelajaran/
LOCATION:NADI KG SG MATA\, NADI KG SG MATA
CATEGORIES:DEFAULT
END:VEVENT
BEGIN:VEVENT
DTSTART;TZID=UTC:20240823T100000
DTEND;TZID=UTC:20240823T123000
DTSTAMP:20260424T053411
CREATED:20240822T233307Z
LAST-MODIFIED:20240822T233307Z
UID:2221-1724407200-1724416200@kgsgmata.nadi.my
SUMMARY:KELAS KEUSAHAWANAN
DESCRIPTION:KELAS KEUSAHAWAN 2 \n* Microsoft Office – Publisher etc.. \n* Canva
URL:https://kgsgmata.nadi.my/event/kelas-keusahawanan-25/
LOCATION:NADI KG SG MATA\, NADI KG SG MATA
CATEGORIES:DEFAULT
END:VEVENT
BEGIN:VEVENT
DTSTART;TZID=UTC:20240810T080000
DTEND;TZID=UTC:20240810T170000
DTSTAMP:20260424T053411
CREATED:20240822T233135Z
LAST-MODIFIED:20240822T233135Z
UID:2220-1723276800-1723309200@kgsgmata.nadi.my
SUMMARY:PERTANDINGAN MOBILE LAGEND BANG BANG (MLBB) PERINGKAT NADI.
DESCRIPTION:PERTANDINGAN MOBILE LAGEND BANG BANG (MLBB) PERINGKAT NADI. \n* Bertanding di NADI Kg Sg Mata
URL:https://kgsgmata.nadi.my/event/pertandingan-mobile-lagend-bang-bang-mlbb-peringkat-nadi/
LOCATION:NADI KG SG MATA\, NADI KG SG MATA
CATEGORIES:DEFAULT
END:VEVENT
BEGIN:VEVENT
DTSTART;TZID=UTC:20240727T090000
DTEND;TZID=UTC:20240727T120000
DTSTAMP:20260424T053411
CREATED:20240702T172744Z
LAST-MODIFIED:20240702T172744Z
UID:2219-1722070800-1722081600@kgsgmata.nadi.my
SUMMARY:E-PEMBELAJARAN
DESCRIPTION:E-PEMBELAJARAN \n* Aplikasi Pembelajaran\, Tutorial\, Kuiz dan Permainan Pendidikan
URL:https://kgsgmata.nadi.my/event/e-pembelajaran-10/
LOCATION:NADI KG SG MATA\, NADI KG SG MATA
CATEGORIES:DEFAULT
END:VEVENT
BEGIN:VEVENT
DTSTART;TZID=UTC:20240710T080000
DTEND;TZID=UTC:20240711T170000
DTSTAMP:20260424T053411
CREATED:20240702T172641Z
LAST-MODIFIED:20240702T172641Z
UID:2218-1720598400-1720717200@kgsgmata.nadi.my
SUMMARY:KELAS KEUSAHAWAN
DESCRIPTION:KELAS KEUSAHAWAN  \n* Mobile Photography (Kerjasama dengan KEMAS Kg Tanjung Parang)
URL:https://kgsgmata.nadi.my/event/kelas-keusahawan-6/
LOCATION:NADI KG SG MATA\, NADI KG SG MATA
CATEGORIES:DEFAULT
END:VEVENT
BEGIN:VEVENT
DTSTART;TZID=UTC:20240706T083000
DTEND;TZID=UTC:20240706T143000
DTSTAMP:20260424T053411
CREATED:20240702T172323Z
LAST-MODIFIED:20240702T172323Z
UID:2217-1720254600-1720276200@kgsgmata.nadi.my
SUMMARY:SARINGAN KESIHATAN
DESCRIPTION:SARINGAN KESIHATAN \n* Program Kerjasama NADI dan Yayasan Buah Pinggang Kebangsaan.
URL:https://kgsgmata.nadi.my/event/saringan-kesihatan/
LOCATION:NADI KG SG MATA\, NADI KG SG MATA
CATEGORIES:DEFAULT
END:VEVENT
BEGIN:VEVENT
DTSTART;TZID=UTC:20240705T143000
DTEND;TZID=UTC:20240705T163000
DTSTAMP:20260424T053411
CREATED:20240702T171934Z
LAST-MODIFIED:20240702T171934Z
UID:2215-1720189800-1720197000@kgsgmata.nadi.my
SUMMARY:ADVOKASI KLIK DENGAN BIJAK 1
DESCRIPTION:ADVOKASI KLIK DENGAN BIJAK 1 \n* K.I.T.A.R \n* KBBKB \n* Video Advokasi
URL:https://kgsgmata.nadi.my/event/advokasi-klik-dengan-bijak-1-5/
LOCATION:NADI KG SG MATA\, NADI KG SG MATA
CATEGORIES:DEFAULT
END:VEVENT
BEGIN:VEVENT
DTSTART;TZID=UTC:20240704T080000
DTEND;TZID=UTC:20240704T120000
DTSTAMP:20260424T053411
CREATED:20240702T172104Z
LAST-MODIFIED:20240702T172104Z
UID:2216-1720080000-1720094400@kgsgmata.nadi.my
SUMMARY:SEJATI MADANI
DESCRIPTION:SEJATI MADANI \n* Program Kerjasama NADI dan Pejabat Daerah Samarahan (Melibatkan KMKK dan SU di seluruh Samarahan) \nPROGRAM INI MELIBATKAN KMKK (KETUA MASYARAKAT DAN KETUA KAUM) DI SELURUH SAMARAHAN DENGAN KERJASAMA PEJABAT DAERAH SAMARAHAN.
URL:https://kgsgmata.nadi.my/event/sejati-madani/
LOCATION:NADI KG SG MATA\, NADI KG SG MATA
CATEGORIES:DEFAULT
END:VEVENT
BEGIN:VEVENT
DTSTART;TZID=UTC:20240625T080000
DTEND;TZID=UTC:20240627T170000
DTSTAMP:20260424T053411
CREATED:20240604T203508Z
LAST-MODIFIED:20240604T203508Z
UID:2214-1719302400-1719507600@kgsgmata.nadi.my
SUMMARY:kELAS KEUSAHAWANAN
DESCRIPTION:KELAS FOTOGRAFI MENGGUNAKAN TELEFON PINTAR \n* Tutorial mengambil gambar produk menggunakan telefon pintar
URL:https://kgsgmata.nadi.my/event/kelas-keusahawanan-24/
LOCATION:NADI KG SG MATA\, NADI KG SG MATA
CATEGORIES:DEFAULT
END:VEVENT
BEGIN:VEVENT
DTSTART;TZID=UTC:20240609T100000
DTEND;TZID=UTC:20240609T130000
DTSTAMP:20260424T053411
CREATED:20240604T203042Z
LAST-MODIFIED:20240604T203042Z
UID:2213-1717927200-1717938000@kgsgmata.nadi.my
SUMMARY:E-PEMBELAJARAN
DESCRIPTION:E-PEMBELAJARAN 1 \n* Aplikasi Pembelajaran\, Tutorial\, Kuiz Kahoot dan Permainan Pendidikan.
URL:https://kgsgmata.nadi.my/event/e-pembelajaran-9/
LOCATION:NADI KG SG MATA\, NADI KG SG MATA
CATEGORIES:DEFAULT
END:VEVENT
BEGIN:VEVENT
DTSTART;TZID=UTC:20240608T090000
DTEND;TZID=UTC:20240608T130000
DTSTAMP:20260424T053411
CREATED:20240604T202935Z
LAST-MODIFIED:20240604T202935Z
UID:2212-1717837200-1717851600@kgsgmata.nadi.my
SUMMARY:KLIK DENGAN BIJAK 1
DESCRIPTION:ADVOKASI KLIK DENGAN BIJAK 1 \n* Kebebasan Bersuara Bukan Kebebasan Berbohong \n* Video Advokasi
URL:https://kgsgmata.nadi.my/event/klik-dengan-bijak-1-4/
LOCATION:NADI KG SG MATA\, NADI KG SG MATA
CATEGORIES:DEFAULT
END:VEVENT
BEGIN:VEVENT
DTSTART;TZID=UTC:20240523T080000
DTEND;TZID=UTC:20240525T170000
DTSTAMP:20260424T053411
CREATED:20240503T190930Z
LAST-MODIFIED:20240503T190930Z
UID:2211-1716451200-1716656400@kgsgmata.nadi.my
SUMMARY:E-PEMBELAJARAN /SOFTSKILL/ KELAS KEUSAHAWANAN
DESCRIPTION:E-PEMBELAJARAN 3 \n* Aplikasi Pembelajaran\, Tutorial\, Kuiz dan Permainan Pendidikan` \n  \nSOFTSKILL \n*Microsoft Word (Resume & cv writing) \n  \nKELAS KEUSAHAWAN 2 \n* Katalog perniagaan\, Brochur dll
URL:https://kgsgmata.nadi.my/event/e-pembelajaran-softskill-kelas-keusahawanan/
LOCATION:NADI KG SG MATA\, NADI KG SG MATA
CATEGORIES:DEFAULT
END:VEVENT
BEGIN:VEVENT
DTSTART;TZID=UTC:20240519T080000
DTEND;TZID=UTC:20240521T170000
DTSTAMP:20260424T053411
CREATED:20240503T190623Z
LAST-MODIFIED:20240503T190623Z
UID:2210-1716105600-1716310800@kgsgmata.nadi.my
SUMMARY:ADVOKASI KLIK DENGAN BIJAK (3) & IOT/STEM
DESCRIPTION: ADVOKASI KLIK DENGAN BIJAK 3 \n* Penipuan di Internet \n  \nIoT & STEM 2 \n*Pembelajaran dan video dalam subjek STEM
URL:https://kgsgmata.nadi.my/event/advokasi-klik-dengan-bijak-3-iot-stem/
LOCATION:NADI KG SG MATA\, NADI KG SG MATA
CATEGORIES:DEFAULT
END:VEVENT
BEGIN:VEVENT
DTSTART;TZID=UTC:20240512T080000
DTEND;TZID=UTC:20240518T235959
DTSTAMP:20260424T053411
CREATED:20240503T190435Z
LAST-MODIFIED:20240503T190435Z
UID:2209-1715500800-1716076799@kgsgmata.nadi.my
SUMMARY:ADVOKASI KLIK DENGAN BIJAK (2) & KELAS KEUSAHAWANAN
DESCRIPTION:ADVOKASI KLIK DENGAN BIJAK 2 \n* Love Scammer / eMail Scammer \n  \nKELAS KEUSAHAWAN 1 \n* Microsoft Office – Word \, Excel etc.. \n* Canva\, Postermywall.com
URL:https://kgsgmata.nadi.my/event/advokasi-klik-dengan-bijak-2-kelas-keusahawanan/
LOCATION:NADI KG SG MATA\, NADI KG SG MATA
CATEGORIES:DEFAULT
END:VEVENT
BEGIN:VEVENT
DTSTART;TZID=UTC:20240502T080000
DTEND;TZID=UTC:20240511T170000
DTSTAMP:20260424T053411
CREATED:20240503T190207Z
LAST-MODIFIED:20240503T190207Z
UID:2208-1714636800-1715446800@kgsgmata.nadi.my
SUMMARY:ADVOKASI KLIK DENGAN BIJAK (I) & KELAS ICT
DESCRIPTION:ADVOKASI KLIK DENGAN BIJAK 1 \n* Sebenarnya.my \n* Mentusahkan Maklumat \n  \nE – GOVERNMENT \n* Laman Web Kerajaan – E-Recruitment\, SPA\, RMR Munakahat\, HRMIS\,idME\, STR dan lain-lain \n  \nKELAS ASAS ICT 1 \n* Mobile Phone /Telefon Pintar  \n  \nE-PEMBELAJARAN 1 \n* Aplikasi Pembelajaran\, Tutorial\, Kuiz Kahoot dan Permainan Pendidikan.
URL:https://kgsgmata.nadi.my/event/advokasi-klik-dengan-bijak-i-kelas-ict/
LOCATION:NADI KG SG MATA\, NADI KG SG MATA
CATEGORIES:DEFAULT
END:VEVENT
BEGIN:VEVENT
DTSTART;TZID=UTC:20240421T080000
DTEND;TZID=UTC:20240427T170000
DTSTAMP:20260424T053411
CREATED:20240406T170903Z
LAST-MODIFIED:20240406T170903Z
UID:2207-1713686400-1714237200@kgsgmata.nadi.my
SUMMARY:SOFTSKILL & KELAS KEUSAHAWANAN
DESCRIPTION:SOFTSKILL \n*Microsoft Word (Resume & cv writing) \nKELAS KEUSAHAWAN  \n* Poster Perniagaan
URL:https://kgsgmata.nadi.my/event/softskill-kelas-keusahawanan/
LOCATION:NADI KG SG MATA\, NADI KG SG MATA
CATEGORIES:DEFAULT
END:VEVENT
BEGIN:VEVENT
DTSTART;TZID=UTC:20240414T080000
DTEND;TZID=UTC:20240420T170000
DTSTAMP:20260424T053411
CREATED:20240406T170758Z
LAST-MODIFIED:20240406T170758Z
UID:2206-1713081600-1713632400@kgsgmata.nadi.my
SUMMARY:IOT & STEM / E-PEMBELAJARAN
DESCRIPTION:IoT & STEM 2 \n*Pembelajaran dan video dalam subjek STEM \nE-PEMBELAJARAN 2 \n* Aplikasi Pembelajaran\, Tutorial\, Kuiz dan Permainan Pendidikan
URL:https://kgsgmata.nadi.my/event/iot-stem-e-pembelajaran/
LOCATION:NADI KG SG MATA\, NADI KG SG MATA
CATEGORIES:DEFAULT
END:VEVENT
BEGIN:VEVENT
DTSTART;TZID=UTC:20240401T080000
DTEND;TZID=UTC:20240407T170000
DTSTAMP:20260424T053411
CREATED:20240406T170556Z
LAST-MODIFIED:20240406T170556Z
UID:2205-1711958400-1712509200@kgsgmata.nadi.my
SUMMARY:ADVOKASI KDB 1
DESCRIPTION:* lindungi hak kanak-kanak \n* K.I.T.A.R
URL:https://kgsgmata.nadi.my/event/advokasi-kdb-1-9/
LOCATION:NADI KG SG MATA\, NADI KG SG MATA
CATEGORIES:DEFAULT
END:VEVENT
BEGIN:VEVENT
DTSTART;TZID=UTC:20240330T000000
DTEND;TZID=UTC:20240330T235959
DTSTAMP:20260424T053411
CREATED:20240303T165916Z
LAST-MODIFIED:20240303T165916Z
UID:2203-1711756800-1711843199@kgsgmata.nadi.my
SUMMARY:e-Pembelajaran
DESCRIPTION:E-PEMBELAJARAN \n* Aplikasi Pembelajaran\, Tutorial\, Kuiz dan Permainan Pendidikan
URL:https://kgsgmata.nadi.my/event/e-pembelajaran-8/
LOCATION:PEDi Kg Sg Mata\, PEDi Kg Sg Mata
CATEGORIES:DEFAULT
END:VEVENT
BEGIN:VEVENT
DTSTART;TZID=UTC:20240323T090000
DTEND;TZID=UTC:20240323T130000
DTSTAMP:20260424T053411
CREATED:20240303T165808Z
LAST-MODIFIED:20240303T165808Z
UID:2202-1711184400-1711198800@kgsgmata.nadi.my
SUMMARY:KELAS ASAS ICT 2 (SOFTWARE & APPLICATION)
DESCRIPTION:KELAS ASAS ICT 2 \n* CANVA (Kad ucapan Bulan Ramadan Al Mubarak)
URL:https://kgsgmata.nadi.my/event/kelas-asas-ict-2-software-application/
LOCATION:PEDi Kg Sg Mata\, PEDi Kg Sg Mata
CATEGORIES:DEFAULT
END:VEVENT
END:VCALENDAR